BEGIN:VCALENDAR
VERSION:2.0
PRODID:-//Siskiyou Audubon Society - ECPv6.15.20//NONSGML v1.0//EN
CALSCALE:GREGORIAN
METHOD:PUBLISH
X-WR-CALNAME:Siskiyou Audubon Society
X-ORIGINAL-URL:https://siskiyouaudubon.org
X-WR-CALDESC:Events for Siskiyou Audubon Society
REFRESH-INTERVAL;VALUE=DURATION:PT1H
X-Robots-Tag:noindex
X-PUBLISHED-TTL:PT1H
BEGIN:VTIMEZONE
TZID:America/Los_Angeles
BEGIN:DAYLIGHT
TZOFFSETFROM:-0800
TZOFFSETTO:-0700
TZNAME:PDT
DTSTART:20240310T100000
END:DAYLIGHT
BEGIN:STANDARD
TZOFFSETFROM:-0700
TZOFFSETTO:-0800
TZNAME:PST
DTSTART:20241103T090000
END:STANDARD
BEGIN:DAYLIGHT
TZOFFSETFROM:-0800
TZOFFSETTO:-0700
TZNAME:PDT
DTSTART:20250309T100000
END:DAYLIGHT
BEGIN:STANDARD
TZOFFSETFROM:-0700
TZOFFSETTO:-0800
TZNAME:PST
DTSTART:20251102T090000
END:STANDARD
BEGIN:DAYLIGHT
TZOFFSETFROM:-0800
TZOFFSETTO:-0700
TZNAME:PDT
DTSTART:20260308T100000
END:DAYLIGHT
BEGIN:STANDARD
TZOFFSETFROM:-0700
TZOFFSETTO:-0800
TZNAME:PST
DTSTART:20261101T090000
END:STANDARD
END:VTIMEZONE
BEGIN:VEVENT
DTSTART;TZID=America/Los_Angeles:20251118T090000
DTEND;TZID=America/Los_Angeles:20251118T110000
DTSTAMP:20260423T162002
CREATED:20251104T225531Z
LAST-MODIFIED:20251104T225952Z
UID:278-1763456400-1763463600@siskiyouaudubon.org
SUMMARY:3rd Tuesday Bird Walk at Reinhart Park
DESCRIPTION:Birdwatchers\, join us for the regular monthly bird walk in Reinhart Volunteer Park\, Grants Pass. Meet a 9 a.m. in the big parking lot next to the Agnew-Lyttle Baseball Field. We walk from there down to the Rogue River\, using the paved path and rambling into the grassy areas closer to the River. We work our way upstream to the pedestrian bridge\, then go over the pond bridge as we return to our cars. The walk is about a mile\, suitable for off-road walking.
URL:https://siskiyouaudubon.org/event-calendar/3rd-tuesday-bird-walk-at-reinhart-park-5/
LOCATION:Reinhart Park\, 1690 SW Webster Rd\, Grants Pass\, 97526\, United States
END:VEVENT
BEGIN:VEVENT
DTSTART;TZID=America/Los_Angeles:20251113T180000
DTEND;TZID=America/Los_Angeles:20251113T200000
DTSTAMP:20260423T162002
CREATED:20251104T215112Z
LAST-MODIFIED:20251104T230427Z
UID:271-1763056800-1763064000@siskiyouaudubon.org
SUMMARY:Chapter Meeting: Program: "Ducks of North America" by John Taylor
DESCRIPTION:Ducks are part of a diverse group of waterfowl which also includes swans and geese. Ducks are widespread across America and account for 62 species. All these birds are associated with aquatic habitats. They all have a seasonal molt where they “blow” all their worn out feathers and may become flightless. The process of growing new feathers takes a few weeks\, when the birds are again ready to take wing. This program will cover a variety of ducks of North America. \nCome join us for refreshments and “bird talk” at 6:00pm. The program will immediately follow a brief chapter meeting. Great door prizes are to be won! Past door prizes have included\, books\, bird feeders and bird seed. \nWood Duck image by Tom Hamilton
URL:https://siskiyouaudubon.org/event-calendar/chapter-meeting-program-ducks-of-north-america-by-john-taylor/
LOCATION:Unitarian Universalists Church\, 129 NW E Street\, Grants Pass\, OR\, 97526\, United States
ATTACH;FMTTYPE=image/jpeg:https://siskiyouaudubon.org/wp-content/uploads/2025/08/DSC02121-Edit-Edit-scaled.jpeg
END:VEVENT
BEGIN:VEVENT
DTSTART;TZID=America/Los_Angeles:20251021T090000
DTEND;TZID=America/Los_Angeles:20251021T120000
DTSTAMP:20260423T162002
CREATED:20250831T233826Z
LAST-MODIFIED:20250927T173802Z
UID:259-1761037200-1761048000@siskiyouaudubon.org
SUMMARY:3rd Tuesday Bird Walk at Reinhart Park
DESCRIPTION:Birdwatchers\, join us for the regular monthly bird walk in Reinhart Volunteer Park\, Grants Pass. Meet at 9:00 am (please note later time to adjust for seasonal changes in light) in the big parking lot next to the Agnew-Lyttle Baseball Field. We walk from there down to the Rogue River\, using the paved path and rambling into the grassy areas closer to the river. We work our way upstream to the pedestrian bridge\, then go over the pond bridge as we return to our cars. The walk is about a mile\, and takes about 2 hours. \nBlack Phoebe photo by Tom Hamilton taken on a previous bird walk. \nBring your binoculars and maybe a snack. Wear shoes suitable for off-road walking.
URL:https://siskiyouaudubon.org/event-calendar/3rd-tuesday-bird-walk-at-reinhart-park-4/
LOCATION:Reinhart Park\, 1690 SW Webster Rd\, Grants Pass\, 97526\, United States
ATTACH;FMTTYPE=image/jpeg:https://siskiyouaudubon.org/wp-content/uploads/2025/08/DSC01924.jpeg
END:VEVENT
BEGIN:VEVENT
DTSTART;TZID=America/Los_Angeles:20251009T180000
DTEND;TZID=America/Los_Angeles:20251009T200000
DTSTAMP:20260423T162002
CREATED:20250831T223848Z
LAST-MODIFIED:20250911T001243Z
UID:249-1760032800-1760040000@siskiyouaudubon.org
SUMMARY:Chapter Meeting -- Program: "Golden Coyote Wetlands - Then and Now" by Audubon Members
DESCRIPTION:The meeting will begin with bird talk\, socializing and a free door prize will be raffled! Past door prizes have included bird related books\, bird seed\, bird houses and bird feeders. Society business and announcements will precede the main program. \nIn the early 2000’s\, a group of local folks headed by Eleanor Pugh worked together to restore the Coyote Creek Wetlands\, near Wolf Creek\, Oregon. These prime wetlands had been degraded during the 1800’s by men in search of placer gold. What did these wetlands look like as the restoration began\, and what do they look like now? Through images and words\, Susan Bush\, Fran Taylor\, and Lee Webb will bring you up to date! \nRefreshments will be served–quite possibly homemade goodies!
URL:https://siskiyouaudubon.org/event-calendar/chapter-meeting-program-golden-coyote-wetlands-then-and-now-by-audubon-members/
LOCATION:Unitarian Universalists Church\, 129 NW E Street\, Grants Pass\, OR\, 97526\, United States
ATTACH;FMTTYPE=image/jpeg:https://siskiyouaudubon.org/wp-content/uploads/2025/08/Golden-Coyote-Wetlands_Beth-2020-05-16_.jpg
END:VEVENT
BEGIN:VEVENT
DTSTART;TZID=America/Los_Angeles:20250916T083000
DTEND;TZID=America/Los_Angeles:20250916T113000
DTSTAMP:20260423T162002
CREATED:20250831T230913Z
LAST-MODIFIED:20250831T230913Z
UID:255-1758011400-1758022200@siskiyouaudubon.org
SUMMARY:3rd Tuesday Bird Walk at Reinhart Park
DESCRIPTION:Birdwatchers\, join us for the regular monthly bird walk in Reinhart Volunteer Park\, Grants Pass. Meet at 8:30 am in the big parking lot next to the Agnew-Lyttle Baseball Field. We walk from there down to the Rogue River\, using the paved path and rambling into the grassy areas closer to the river. We work our way upstream to the pedestrian bridge\, then go over the pond bridge as we return to our cars. the walk is about a mile\, and takes about 2 hours. \nThe Wrentit photo was provided by Tom Hamilton\, taken on a previous 3rd Tuesday bird walk! \nBring your binoculars and maybe a snack. Wear shoes suitable for off-road walking.
URL:https://siskiyouaudubon.org/event-calendar/3rd-tuesday-bird-walk-at-reinhart-park-3/
LOCATION:Reinhart Park\, 1690 SW Webster Rd\, Grants Pass\, 97526\, United States
ATTACH;FMTTYPE=image/jpeg:https://siskiyouaudubon.org/wp-content/uploads/2025/04/DSC02891_Sig-scaled.jpeg
END:VEVENT
BEGIN:VEVENT
DTSTART;TZID=America/Los_Angeles:20250911T180000
DTEND;TZID=America/Los_Angeles:20250911T200000
DTSTAMP:20260423T162002
CREATED:20250831T222131Z
LAST-MODIFIED:20250911T001105Z
UID:245-1757613600-1757620800@siskiyouaudubon.org
SUMMARY:Chapter Meeting--Program: "Birds of Egypt" by John Taylor
DESCRIPTION:The meeting will begin with bird talk\, socializing and a free door prize will be raffled. Past door prizes have included bird related books\, bird seed\, bird houses and bird feeders! Society business and announcements will precede the main program. \nJohn & (the late) Joy Taylor took a birding trip to Egypt in 2008\, where they traveled up and down the Nile. In this program\, John will share his photos from the trip. As they sailed along\, they photographed birds from the upper deck of their boat. In front of the Cairo Museum (one of Pepper Trail’s favorite places) John photographed the Pallid Swift and the Hoopoe. Near Abu Simbel they saw a Steppe Eagle. \nLight refreshments will be served.
URL:https://siskiyouaudubon.org/event-calendar/chapter-meeting-program-birds-of-egypt-by-john-taylor/
LOCATION:Unitarian Universalists Church\, 129 NW E Street\, Grants Pass\, OR\, 97526\, United States
ATTACH;FMTTYPE=image/png:https://siskiyouaudubon.org/wp-content/uploads/2025/08/John-Joy-Taylor-Giza-Egypt.png
END:VEVENT
BEGIN:VEVENT
DTSTART;TZID=America/Los_Angeles:20250517T080000
DTEND;TZID=America/Los_Angeles:20250517T130000
DTSTAMP:20260423T162002
CREATED:20250402T004636Z
LAST-MODIFIED:20250402T004636Z
UID:235-1747468800-1747486800@siskiyouaudubon.org
SUMMARY:Siskiyou Audubon Field Trip--World Migratory Bird Day at Provolt Recreation Site
DESCRIPTION:Siskiyou Audubon is taking a field trip to the BLM Provolt Recreation Site in honor of World Migratory Bird Day. What was once a seed orchard is now a unique place to discover Oregon’s heritage. Here you can enjoy hiking\, paddling\, horseback riding\, picnicking and wildlife viewing. On this day we will enjoy bird walks led by our members Zia Fukuda and Fran Taylor. \n8:00 am Bird Walk – Zia \n9:00 am Bird Walk – Fran \nEducational displays are scheduled from 9:00 am to 1:00 pm and will include the following: \nJr. Ranger – Molly \nBird Houses – Misael \nTurtles – Jade \nDark Sky – Liz \nNative Plants – Peg \nAPWC Kids Activities – Charlotte/Cheyenne \nPollinators – Edwardo \nDirections to Provolt Recreation Site: From Grants Pass drive 15 miles southeast on Hwy 238 to 14171 Williams Hwy. Public access to land between Williams Creek\, Applegate River and Hwy 238.
URL:https://siskiyouaudubon.org/event-calendar/siskiyou-audubon-field-trip-world-migratory-bird-day-at-provolt-recreation-site/
LOCATION:Provolt Recreation Site\, 14171 Williams Hwy\, Provolt\, OR
END:VEVENT
BEGIN:VEVENT
DTSTART;TZID=America/Los_Angeles:20250508T180000
DTEND;TZID=America/Los_Angeles:20250508T200000
DTSTAMP:20260423T162002
CREATED:20250209T013038Z
LAST-MODIFIED:20250401T231637Z
UID:154-1746727200-1746734400@siskiyouaudubon.org
SUMMARY:Chapter Meeting - Program: "Great Gray Owls - What They Are & How to Find Them" by Harry Fuller
DESCRIPTION:Great Gray Owls are one of the most mysterious and sought-after bird residents of California\, Oregon and Washington. It is the tallest owl in North America\, and notoriously approachable by humans\, but finding it intentionally isn’t easy due to its nocturnal habits\, excellent camouflage and silent flight. \nHarry Fuller is the author of four natural history books. Besides his illustrated book on Great Gray Owls\, he has authored Freeway Birding\, San Francisco to Seattle\, and San Francisco’s Natural History — Sand Dune to Streetcars. His most recent book is Birding Harney County. It is the largest county in Oregon and includes Malheur NWR\, Alvord Desert and Steens Mountain. \nHarry is pictured here next to the late\, great Shadow\, who lived at Lindsay Museum in Walnut Creek\, CA. Shadow was a fine ornithology instructor in California class rooms.
URL:https://siskiyouaudubon.org/event-calendar/chapter-meeting-program-great-gray-owls-what-they-are-how-to-find-them-by-harry-fuller/
LOCATION:Unitarian Universalists Church\, 129 NW E Street\, Grants Pass\, OR\, 97526\, United States
ATTACH;FMTTYPE=image/webp:https://siskiyouaudubon.org/wp-content/uploads/2025/02/IMG_0590.webp
END:VEVENT
BEGIN:VEVENT
DTSTART;TZID=America/Los_Angeles:20250426T094500
DTEND;TZID=America/Los_Angeles:20250426T120000
DTSTAMP:20260423T162002
CREATED:20250401T234331Z
LAST-MODIFIED:20250401T234331Z
UID:230-1745660700-1745668800@siskiyouaudubon.org
SUMMARY:Siskiyou Audubon Field Trip--Hugo
DESCRIPTION:Barbara Whitehead of Hugo has invited SAS to bring a small birding group to her property off Three Pines Road in the Hugo area. She has purchased many SAS built nest boxes over the years and would like to share how she has used the nest boxes on her property. \nParticipants will meet at 9:45 am in the parking area at the I-5 exit 66 Hugo off-ramp. From the off-ramp turn left (west) and park in the gravel lot. The group will car pool from the parking lot to Barbara’s home. Plan on walking on rough ground\, dress for the weather\, and bring binoculars/camera and snack/water. A sign-up sheet will be passed around at the April Chapter meeting.
URL:https://siskiyouaudubon.org/event-calendar/siskiyou-audubon-field-trip-hugo/
ATTACH;FMTTYPE=image/webp:https://siskiyouaudubon.org/wp-content/uploads/2025/01/IMG_2951-scaled-e1743550988887.webp
END:VEVENT
BEGIN:VEVENT
DTSTART;TZID=America/Los_Angeles:20250412T090000
DTEND;TZID=America/Los_Angeles:20250412T130000
DTSTAMP:20260423T162002
CREATED:20250402T000416Z
LAST-MODIFIED:20250402T000416Z
UID:233-1744448400-1744462800@siskiyouaudubon.org
SUMMARY:Siskiyou Audubon Market Booth at Grants Pass Growers' Market
DESCRIPTION:SAS market booth will be at the Grants Pass Growers’ Market selling nest boxes and distributing literature. It’s an opportunity to meet and greet the public\, promote our organization and birding! Helpers are always welcome. Contact Fran at sisqaudubon@gmail.com to volunteer.
URL:https://siskiyouaudubon.org/event-calendar/siskiyou-audubon-market-booth-at-grants-pass-growers-market-2/
LOCATION:Grants Pass Growers’ Market\, 208 NW Sixth St\, Grants Pass\, OR\, 97526\, United States
ATTACH;FMTTYPE=image/webp:https://siskiyouaudubon.org/wp-content/uploads/2025/02/IMG_1983-scaled-e1743551518470.webp
END:VEVENT
BEGIN:VEVENT
DTSTART;TZID=America/Los_Angeles:20250410T180000
DTEND;TZID=America/Los_Angeles:20250410T200000
DTSTAMP:20260423T162002
CREATED:20250401T221151Z
LAST-MODIFIED:20250401T221151Z
UID:217-1744308000-1744315200@siskiyouaudubon.org
SUMMARY:Chapter Meeting: Officer Nominations and Program--"Pictures of Birds" by Tom Hamilton
DESCRIPTION:Tom Hamilton\, a member of Siskiyou Audubon Society and an excellent bird photographer will show us a selection of his bird photographs. They were taken around the Pacific NW\, many of them locally. He will also show a short video of Osprey diving for fish! \nNominations for SAS officers will be accepted at this meeting. This year’s offices with terms expiring June 30 are the following: \nPresident (Lee Webb) \nTreasurer (Mike Clem–Mike is willing to serve another term) \nDirector (Pat Webb) \n  \n  \n 
URL:https://siskiyouaudubon.org/event-calendar/chapter-meeting-officer-nominations-and-program-pictures-of-birds-by-tom-hamilton/
LOCATION:Unitarian Universalists Church\, 129 NW E Street\, Grants Pass\, OR\, 97526\, United States
ATTACH;FMTTYPE=image/jpeg:https://siskiyouaudubon.org/wp-content/uploads/2025/04/DSC02891_Sig-scaled.jpeg
END:VEVENT
BEGIN:VEVENT
DTSTART;TZID=America/Los_Angeles:20250405T100000
DTEND;TZID=America/Los_Angeles:20250405T120000
DTSTAMP:20260423T162002
CREATED:20250211T202109Z
LAST-MODIFIED:20250401T231210Z
UID:178-1743847200-1743854400@siskiyouaudubon.org
SUMMARY:Siskiyou Audubon Field Trip to Golden - Coyote Wetlands
DESCRIPTION:Join Siskiyou Audubon Society leaders in a visit to the Golden-Coyote Wetlands! We will meet at 10:00 am at the ghost town of Golden and walk down the trail into the wetlands below. Along the way\, we will look for birds and other wildlife as we assess the habitat. \nTwenty-some years ago\, SAS joined with Lichen Cooperative and other Wolf Creek friends to reclaim wetlands destroyed by 1880s gold miners. A native creek was recovered and native plants restored. Interest in the area has waned in recent years\, however\, the wetlands belong to the State of Oregon Parks. Its Ranger also oversees the Wolf Creek Inn\, on the west side of highway I-5. For more information about Golden visit the State of Oregon Parks. \nDirections: Take I-5 north to Wolf Creek exit 76. At the bottom of the off-ramp\, turn RIGHT and drive 3.6 miles up Coyote Creek Road to the ghost town of Golden.
URL:https://siskiyouaudubon.org/event-calendar/save-the-date-siskiyou-audubon-field-trip-to-golden-coyote-wetlands/
LOCATION:Golden-Coyote Wetlands\, 3482 Coyote Creek Rd\, Wolf Creek\, Oregon\, 97497
ATTACH;FMTTYPE=image/webp:https://siskiyouaudubon.org/wp-content/uploads/2025/04/IMG_0762.webp
END:VEVENT
BEGIN:VEVENT
DTSTART;TZID=America/Los_Angeles:20250402T083000
DTEND;TZID=America/Los_Angeles:20250402T120000
DTSTAMP:20260423T162002
CREATED:20250224T233232Z
LAST-MODIFIED:20250224T233232Z
UID:210-1743582600-1743595200@siskiyouaudubon.org
SUMMARY:Rogue Valley Audubon First Wednesday Bird Walk
DESCRIPTION:Join RVAS for their monthly outing to Denman Wildlife Area. Walks begin at 8:30 am and end before noon They are led by Jim Hostick. The gate will be open from 8:00 – 8:20 am. Participants need to purchase an ODFW Area Parking Permit prior to parking in the lot. Permits can be purchased at the ODFW Office at 1495 East Gregory Rd.\, Central Point\, OR 97502\, at Sportsman’s Warehouse on Delta Waters and Highway 62 in Medford\, or at Bi-Mart. \nRogue Valley Audubon bird walks are usually free and open to the public. Beginners and newcomers are welcome. Dogs are not allowed on bird walks. \nWe request that all participants be vaccinated for COVID-19.
URL:https://siskiyouaudubon.org/event-calendar/rogue-valley-audubon-first-wednesday-bird-walk-2/
LOCATION:Denman Wildlife Area\, 8425-8401 Agate Rd\, White City\, OR\, 97503\, United States
END:VEVENT
BEGIN:VEVENT
DTSTART;TZID=America/Los_Angeles:20250318T093000
DTEND;TZID=America/Los_Angeles:20250318T113000
DTSTAMP:20260423T162002
CREATED:20250211T202526Z
LAST-MODIFIED:20250211T202526Z
UID:180-1742290200-1742297400@siskiyouaudubon.org
SUMMARY:3rd Tuesday bird Walk at Reinhart Park
DESCRIPTION:Siskiyou Audubon leaders Fran Taylor or Margaret James guide this regular monthly walk. We try to identify the birds we see and hear\, and maybe creatures\, too. \nMeet in the first parking lot on the right by the Agnew-Lyttle Baseball field. \nThe mostly level walk is about a mile and takes about 2 hours. Bring binoculars\, your water bottle & a snack. If you don’t have binoculars\, we have “spares” to share. Wear walking shoes and dress for the weather.
URL:https://siskiyouaudubon.org/event-calendar/3rd-tuesday-bird-walk-at-reinhart-park-2/
LOCATION:Reinhart Park\, 1690 SW Webster Rd\, Grants Pass\, 97526\, United States
END:VEVENT
BEGIN:VEVENT
DTSTART;TZID=America/Los_Angeles:20250315T090000
DTEND;TZID=America/Los_Angeles:20250315T130000
DTSTAMP:20260423T162002
CREATED:20250211T203852Z
LAST-MODIFIED:20250211T212402Z
UID:184-1742029200-1742043600@siskiyouaudubon.org
SUMMARY:Siskiyou Audubon Market Booth at Grants Pass Growers' Market
DESCRIPTION:Our Siskiyou Audubon market booth will be at the Grants Pass Growers Market selling birdhouses and other wildlife structures. We will also have literature to hand out. To volunteer at the booth contact Fran at sisquaudubon@gmail.com.
URL:https://siskiyouaudubon.org/event-calendar/siskiyou-audubon-market-booth-at-grants-pass-growers-market/
LOCATION:Grants Pass Growers’ Market\, 208 NW Sixth St\, Grants Pass\, OR\, 97526\, United States
ATTACH;FMTTYPE=image/webp:https://siskiyouaudubon.org/wp-content/uploads/2025/02/IMG_0251.webp
END:VEVENT
BEGIN:VEVENT
DTSTART;TZID=America/Los_Angeles:20250313T180000
DTEND;TZID=America/Los_Angeles:20250313T200000
DTSTAMP:20260423T162002
CREATED:20250209T011918Z
LAST-MODIFIED:20250214T001229Z
UID:151-1741888800-1741896000@siskiyouaudubon.org
SUMMARY:Chapter Meeting - Program: "Hummingbirds of Belize and Costa Rica" by John Taylor
DESCRIPTION:There are over 240 living species of hummingbirds\, and new ones are still being discovered. Hummingbirds can be found in the western hemisphere only\, from southern Alaska to Tierra Del Fuego and from below sea level deserts to steamy tropical forests up to 16\,000 feet in the Andes of South America. \nJohn and Joy Taylor visited Belize and Costa rica many years ago and expert guide Manuel Rodriguez was with them the whole time. Each evening\, they would go to the hotel lobby and carefully go over their notes. The hummingbirds you will see tonight are only the that Joy and John saw and were confirmed by their guide.
URL:https://siskiyouaudubon.org/event-calendar/chapter-meeting-program-hummingbirds-of-belize-and-costa-rica-by-john-taylor/
LOCATION:Unitarian Universalists Church\, 129 NW E Street\, Grants Pass\, OR\, 97526\, United States
ATTACH;FMTTYPE=image/webp:https://siskiyouaudubon.org/wp-content/uploads/2025/02/John-Joy_Taylor_9-21-17_use-01.webp
END:VEVENT
BEGIN:VEVENT
DTSTART;TZID=America/Los_Angeles:20250305T083000
DTEND;TZID=America/Los_Angeles:20250305T120000
DTSTAMP:20260423T162002
CREATED:20250224T232812Z
LAST-MODIFIED:20250224T233407Z
UID:207-1741163400-1741176000@siskiyouaudubon.org
SUMMARY:Rogue Valley Audubon First Wednesday Bird Walk
DESCRIPTION:Join RVAS for their monthly outing to Denman Wildlife Area. Walks begin at 8:30 am and end before noon They are led by Jim Hostick. The gate will be open from 8:00 – 8:20 am. Participants need to purchase an ODFW Area Parking Permit prior to parking in the lot. Permits can be purchased at the ODFW Office at 1495 East Gregory Rd.\, Central Point\, OR 97502\, at Sportsman’s Warehouse on Delta Waters and Highway 62 in Medford\, or at Bi-Mart. \nRogue Valley Audubon bird walks are usually free and open to the public. Beginners and newcomers are welcome. Dogs are not allowed on bird walks. \nWe request that all participants be vaccinated for COVID-19.
URL:https://siskiyouaudubon.org/event-calendar/rogue-valley-audubon-first-wednesday-bird-walk/
LOCATION:Denman Wildlife Area\, 8425-8401 Agate Rd\, White City\, OR\, 97503\, United States
END:VEVENT
BEGIN:VEVENT
DTSTART;TZID=America/Los_Angeles:20250301T093000
DTEND;TZID=America/Los_Angeles:20250301T150000
DTSTAMP:20260423T162002
CREATED:20250210T010946Z
LAST-MODIFIED:20250224T210514Z
UID:161-1740821400-1740841200@siskiyouaudubon.org
SUMMARY:Nest Box Building Day!
DESCRIPTION:Our big Nest Box Building Day will once again be at Hidden Valley High School wood shop at 651 Murphy Creek Road. Our goal this year is to build 150-200 nest boxes and make the rest of the wood into kits. Some will be sold to the retail outlets Wild Birds Unlimited in Medford and Northwest Nature Shop in Ashland. The remainder of the boxes will be on sale at our own market booths or by phone order. Remember\, each person who works may take home a free nest box! \nBring your own: hammer\, lunch\, drink and enthusiasm! We will have all the other tools and materials on hand. Our set-up crew will have the workshop ready for folks to start building at 9:30am. We’ll take a break for lunch\, then resume work until we meet our quota or use up all the wood. \nCheck for updates by emailing sisqaudubon@gmail.com \n 
URL:https://siskiyouaudubon.org/event-calendar/nest-box-building-day/
LOCATION:Hidden Valley High School\, 651 Murphy Creek Rd\, Grants Pass\, OR\, 97527\, United States
ATTACH;FMTTYPE=image/webp:https://siskiyouaudubon.org/wp-content/uploads/2025/02/IMG_0592-e1739055052502.webp
END:VEVENT
BEGIN:VEVENT
DTSTART;TZID=America/Los_Angeles:20250218T093000
DTEND;TZID=America/Los_Angeles:20250218T113000
DTSTAMP:20260423T162002
CREATED:20250209T005928Z
LAST-MODIFIED:20250211T202337Z
UID:146-1739871000-1739878200@siskiyouaudubon.org
SUMMARY:3rd Tuesday Bird Walk at Reinhart Park
DESCRIPTION:Siskiyou Audubon leaders Fran Taylor or Margaret James guide this regular monthly walk. We try to identify the birds we see and hear\, and maybe creatures\, too. \nMeet in the first parking lot on the right by the Agnew-Lyttle Baseball field. \nThe mostly level walk is about a mile and takes about 2 hours. Bring binoculars\, your water bottle & a snack. If you don’t have binoculars\, we have “spares” to share. Wear walking shoes and dress for the weather.
URL:https://siskiyouaudubon.org/event-calendar/3rd-tuesday-bird-walk-at-reinhart-park/
LOCATION:Reinhart Park\, 1690 SW Webster Rd\, Grants Pass\, 97526\, United States
END:VEVENT
BEGIN:VEVENT
DTSTART;TZID=America/Los_Angeles:20250214T000000
DTEND;TZID=America/Los_Angeles:20250217T235959
DTSTAMP:20260423T162002
CREATED:20250210T012149Z
LAST-MODIFIED:20250211T211606Z
UID:163-1739491200-1739836799@siskiyouaudubon.org
SUMMARY:Great Backyard Bird Count
DESCRIPTION:Join the world in connecting to birds! The Great Backyard Bird Count (GBBC) is a collaboration of the Cornell Lab\, Audubon\, Wild Birds Unlimited and Birds Canada. Visit the GBBC website to learn more about how you can participate!
URL:https://siskiyouaudubon.org/event-calendar/great-backyard-birdcount/
ATTACH;FMTTYPE=image/webp:https://siskiyouaudubon.org/wp-content/uploads/2025/02/IMG_0597.webp
END:VEVENT
END:VCALENDAR