BEGIN:VCALENDAR
VERSION:2.0
PRODID:-//Siskiyou Audubon Society - ECPv6.15.20//NONSGML v1.0//EN
CALSCALE:GREGORIAN
METHOD:PUBLISH
X-ORIGINAL-URL:https://siskiyouaudubon.org
X-WR-CALDESC:Events for Siskiyou Audubon Society
REFRESH-INTERVAL;VALUE=DURATION:PT1H
X-Robots-Tag:noindex
X-PUBLISHED-TTL:PT1H
BEGIN:VTIMEZONE
TZID:America/Los_Angeles
BEGIN:DAYLIGHT
TZOFFSETFROM:-0800
TZOFFSETTO:-0700
TZNAME:PDT
DTSTART:20250309T100000
END:DAYLIGHT
BEGIN:STANDARD
TZOFFSETFROM:-0700
TZOFFSETTO:-0800
TZNAME:PST
DTSTART:20251102T090000
END:STANDARD
BEGIN:DAYLIGHT
TZOFFSETFROM:-0800
TZOFFSETTO:-0700
TZNAME:PDT
DTSTART:20260308T100000
END:DAYLIGHT
BEGIN:STANDARD
TZOFFSETFROM:-0700
TZOFFSETTO:-0800
TZNAME:PST
DTSTART:20261101T090000
END:STANDARD
BEGIN:DAYLIGHT
TZOFFSETFROM:-0800
TZOFFSETTO:-0700
TZNAME:PDT
DTSTART:20270314T100000
END:DAYLIGHT
BEGIN:STANDARD
TZOFFSETFROM:-0700
TZOFFSETTO:-0800
TZNAME:PST
DTSTART:20271107T090000
END:STANDARD
END:VTIMEZONE
BEGIN:VEVENT
DTSTART;TZID=America/Los_Angeles:20260421T083000
DTEND;TZID=America/Los_Angeles:20260421T233000
DTSTAMP:20260423T112407
CREATED:20260401T192430Z
LAST-MODIFIED:20260401T192430Z
UID:329-1776760200-1776814200@siskiyouaudubon.org
SUMMARY:3rd Tuesday Bird Walk at Reinhart Park
DESCRIPTION:Fran Taylor leads a bird watching walk in Reinhart Volunteer Park in Grants Pass on the 3rd Tuesday each month September through June. \nMeet at 8:30 a.m. at the parking lot for the Agnew-Lyttle baseball field\, the first parking lot on the right as you enter the park. Dress for the weather and possibly wet grounds\, and bring your binoculars. If you don’t have any\, we have a spare pair to loan. If you are a photographer\, bring a camera. You may want to bring water and a snack. \nSpring migrants will still be coming in\, and many of the birds will be nesting. We’ll hope to see warblers\, Osprey and maybe a Yellow-breasted Chat! \nImage of Yellow-breasted Chat from iNaturalist
URL:https://siskiyouaudubon.org/event-calendar/3rd-tuesday-bird-walk-at-reinhart-park-7/
LOCATION:Reinhart Park\, 1690 SW Webster Rd\, Grants Pass\, 97526\, United States
ATTACH;FMTTYPE=image/png:https://siskiyouaudubon.org/wp-content/uploads/2026/04/Screenshot-2026-04-01-at-12.20.53-PM.png
END:VEVENT
BEGIN:VEVENT
DTSTART;TZID=America/Los_Angeles:20260519T083000
DTEND;TZID=America/Los_Angeles:20260519T223000
DTSTAMP:20260423T112407
CREATED:20260401T193756Z
LAST-MODIFIED:20260401T193756Z
UID:334-1779179400-1779229800@siskiyouaudubon.org
SUMMARY:3rd Tuesday Bird Walk at Reinhart Volunteer Park
DESCRIPTION:Fran Taylor will lead a bird walk through a one mile loop at Reinhart Volunteer Park staring at 8:30 a.m. The walk will take up to two hours. Dress appropriately as the group wanders off the path sometimes into wet grassy areas. \nMeet at the Agnew-Lyttle baseball field\, the first parking lot on the right as you enter the park. Bring your binoculars\, but if you don’t have any\, there is a pair for loan. In March\, the group saw 31 species! \nWhite-crowned sparrow photo by Richard Vetter \n 
URL:https://siskiyouaudubon.org/event-calendar/3rd-tuesday-bird-walk-at-reinhart-volunteer-park-3/
LOCATION:Reinhart Park\, 1690 SW Webster Rd\, Grants Pass\, 97526\, United States
ATTACH;FMTTYPE=image/webp:https://siskiyouaudubon.org/wp-content/uploads/2025/02/IMG_0560.webp
END:VEVENT
END:VCALENDAR