BEGIN:VCALENDAR
VERSION:2.0
PRODID:-//Siskiyou Audubon Society - ECPv6.15.20//NONSGML v1.0//EN
CALSCALE:GREGORIAN
METHOD:PUBLISH
X-ORIGINAL-URL:https://siskiyouaudubon.org
X-WR-CALDESC:Events for Siskiyou Audubon Society
REFRESH-INTERVAL;VALUE=DURATION:PT1H
X-Robots-Tag:noindex
X-PUBLISHED-TTL:PT1H
BEGIN:VTIMEZONE
TZID:America/Los_Angeles
BEGIN:DAYLIGHT
TZOFFSETFROM:-0800
TZOFFSETTO:-0700
TZNAME:PDT
DTSTART:20250309T100000
END:DAYLIGHT
BEGIN:STANDARD
TZOFFSETFROM:-0700
TZOFFSETTO:-0800
TZNAME:PST
DTSTART:20251102T090000
END:STANDARD
BEGIN:DAYLIGHT
TZOFFSETFROM:-0800
TZOFFSETTO:-0700
TZNAME:PDT
DTSTART:20260308T100000
END:DAYLIGHT
BEGIN:STANDARD
TZOFFSETFROM:-0700
TZOFFSETTO:-0800
TZNAME:PST
DTSTART:20261101T090000
END:STANDARD
BEGIN:DAYLIGHT
TZOFFSETFROM:-0800
TZOFFSETTO:-0700
TZNAME:PDT
DTSTART:20270314T100000
END:DAYLIGHT
BEGIN:STANDARD
TZOFFSETFROM:-0700
TZOFFSETTO:-0800
TZNAME:PST
DTSTART:20271107T090000
END:STANDARD
END:VTIMEZONE
BEGIN:VEVENT
DTSTART;TZID=America/Los_Angeles:20260217T090000
DTEND;TZID=America/Los_Angeles:20260217T113000
DTSTAMP:20260423T162600
CREATED:20260205T003231Z
LAST-MODIFIED:20260205T003231Z
UID:317-1771318800-1771327800@siskiyouaudubon.org
SUMMARY:3rd Tuesday Bird Walk at Reinhart Volunteer Park
DESCRIPTION:Birdwatchers\, join us for the regular monthly bird walk in Reinhart Volunteer Park\, Grants Pass. Meet a 9 a.m. in the big parking lot next to the Agnew-Lyttle Baseball Field. We walk from there down to the Rogue River\, using the paved path and rambling into the grassy areas closer to the River. We work our way upstream to the pedestrian bridge\, then go over the pond bridge as we return to our cars. The walk is about a mile\, suitable for off-road walking. \nDress for the weather and bring your binoculars and maybe water and a snack. If you don’t have binoculars\, we have some to loan. If you have any question\, get in touch with Fran Taylor at sisqaudubon@gmail.com. \n 
URL:https://siskiyouaudubon.org/event-calendar/3rd-tuesday-bird-walk-at-reinhart-volunteer-park/
LOCATION:Reinhart Park\, 1690 SW Webster Rd\, Grants Pass\, 97526\, United States
ATTACH;FMTTYPE=image/webp:https://siskiyouaudubon.org/wp-content/uploads/2025/02/IMG_0560.webp
END:VEVENT
BEGIN:VEVENT
DTSTART;TZID=America/Los_Angeles:20260312T180000
DTEND;TZID=America/Los_Angeles:20260312T200000
DTSTAMP:20260423T162600
CREATED:20260205T002039Z
LAST-MODIFIED:20260205T002039Z
UID:315-1773338400-1773345600@siskiyouaudubon.org
SUMMARY:Chapter Meeting--Program "Creating a Backyard Habitat" by Laura Fleming
DESCRIPTION:Laura Fleming\, owner of Wild Birds Unlimited in Oregon and “Wild Life Specialist\,” will discuss the necessary four elements for a well-rounded backyard habitat. \nFrom playing in the creek behind her house as a child in Cincinnati\, Ohio to obtaining a B.S. in Wildlife Biology and Management from Michigan State University\, Laura has always been interested in and connected to the natural world and its wildlife. She has developed habitat for wild birds in her yard with landscaping\, feeders\, houses\, baths and ponds which draw a great number and variety of birds. She considers herself a life-long student of birding\, finding there is always more to learn and discover. Her main focus is on conservation of the environment and the promotion of healthy habitats for birds and other wildlife.
URL:https://siskiyouaudubon.org/event-calendar/chapter-meeting-program-creating-a-backyard-habitat-by-laura-fleming/
LOCATION:Unitarian Universalists Church\, 129 NW E Street\, Grants Pass\, OR\, 97526\, United States
ATTACH;FMTTYPE=image/jpeg:https://siskiyouaudubon.org/wp-content/uploads/2026/02/Laura-Fleming-picture-_132641-from-WBU-website-_bright.jpg
END:VEVENT
BEGIN:VEVENT
DTSTART;TZID=America/Los_Angeles:20260317T090000
DTEND;TZID=America/Los_Angeles:20260317T233000
DTSTAMP:20260423T162600
CREATED:20260205T003730Z
LAST-MODIFIED:20260205T003730Z
UID:320-1773738000-1773790200@siskiyouaudubon.org
SUMMARY:3rd Tuesday Bird Walk at Reinhart Volunteer Park
DESCRIPTION:Birdwatchers\, join us for the regular monthly bird walk in Reinhart Volunteer Park\, Grants Pass. Meet a 9 a.m. in the big parking lot next to the Agnew-Lyttle Baseball Field. We walk from there down to the Rogue River\, using the paved path and rambling into the grassy areas closer to the River. We work our way upstream to the pedestrian bridge\, then go over the pond bridge as we return to our cars. The walk is about a mile\, suitable for off-road walking. \nDress for the weather and bring your binoculars and maybe water and a snack. If you don’t have binoculars\, we have some to loan. If you have any question\, get in touch with Fran Taylor at sisqaudubon@gmail.com. \n 
URL:https://siskiyouaudubon.org/event-calendar/3rd-tuesday-bird-walk-at-reinhart-volunteer-park-2/
LOCATION:Reinhart Park\, 1690 SW Webster Rd\, Grants Pass\, 97526\, United States
ATTACH;FMTTYPE=image/jpeg:https://siskiyouaudubon.org/wp-content/uploads/2025/11/2009-GBBC-SAS-Birders_0214FirstPhotos0009-_rsz35_crop_bright.jpeg
END:VEVENT
BEGIN:VEVENT
DTSTART;TZID=America/Los_Angeles:20260409T180000
DTEND;TZID=America/Los_Angeles:20260409T200000
DTSTAMP:20260423T162600
CREATED:20260401T190309Z
LAST-MODIFIED:20260401T190309Z
UID:324-1775757600-1775764800@siskiyouaudubon.org
SUMMARY:Chapter Meeting - Nominations for Election plus Program: Falcons for Fun and Usefulness by Howard Ward
DESCRIPTION:Howard Ward has lived in Grants Pass since 1980\, and has been married to the same lady for 45 years. His career was in auto body repair for 44 years\, and when he retired he needed to find something to do. Then about fifteen years ago\, his best friend got him into falconry. Howard will bring one or two falcons to the meeting. They have never been wild birds. Howard will discuss how he gets the falcons\, their training and use\, including information about the telemetry used to track them when they are in the field. \nPrior to the program\, the Siskiyou Audubon Society\, will take nominations for openings on the Board. The roles coming open include Vice President and one Director position. Board terms are two years. Board members meet once a month September through May. At these meetings they plan activities and take an active role in the decision-making process of the Society. Please consider becoming a Board member to help drive the future of our group! \n  \n 
URL:https://siskiyouaudubon.org/event-calendar/chapter-meeting-nominations-for-election-plus-program-falcons-for-fun-and-usefulness-by-howard-ward/
LOCATION:Unitarian Universalists Church\, 129 NW E Street\, Grants Pass\, OR\, 97526\, United States
ATTACH;FMTTYPE=image/png:https://siskiyouaudubon.org/wp-content/uploads/2026/04/Screenshot-2026-04-01-at-11.58.35-AM.png
END:VEVENT
BEGIN:VEVENT
DTSTART;TZID=America/Los_Angeles:20260421T083000
DTEND;TZID=America/Los_Angeles:20260421T233000
DTSTAMP:20260423T162600
CREATED:20260401T192430Z
LAST-MODIFIED:20260401T192430Z
UID:329-1776760200-1776814200@siskiyouaudubon.org
SUMMARY:3rd Tuesday Bird Walk at Reinhart Park
DESCRIPTION:Fran Taylor leads a bird watching walk in Reinhart Volunteer Park in Grants Pass on the 3rd Tuesday each month September through June. \nMeet at 8:30 a.m. at the parking lot for the Agnew-Lyttle baseball field\, the first parking lot on the right as you enter the park. Dress for the weather and possibly wet grounds\, and bring your binoculars. If you don’t have any\, we have a spare pair to loan. If you are a photographer\, bring a camera. You may want to bring water and a snack. \nSpring migrants will still be coming in\, and many of the birds will be nesting. We’ll hope to see warblers\, Osprey and maybe a Yellow-breasted Chat! \nImage of Yellow-breasted Chat from iNaturalist
URL:https://siskiyouaudubon.org/event-calendar/3rd-tuesday-bird-walk-at-reinhart-park-7/
LOCATION:Reinhart Park\, 1690 SW Webster Rd\, Grants Pass\, 97526\, United States
ATTACH;FMTTYPE=image/png:https://siskiyouaudubon.org/wp-content/uploads/2026/04/Screenshot-2026-04-01-at-12.20.53-PM.png
END:VEVENT
BEGIN:VEVENT
DTSTART;TZID=America/Los_Angeles:20260519T083000
DTEND;TZID=America/Los_Angeles:20260519T223000
DTSTAMP:20260423T162600
CREATED:20260401T193756Z
LAST-MODIFIED:20260401T193756Z
UID:334-1779179400-1779229800@siskiyouaudubon.org
SUMMARY:3rd Tuesday Bird Walk at Reinhart Volunteer Park
DESCRIPTION:Fran Taylor will lead a bird walk through a one mile loop at Reinhart Volunteer Park staring at 8:30 a.m. The walk will take up to two hours. Dress appropriately as the group wanders off the path sometimes into wet grassy areas. \nMeet at the Agnew-Lyttle baseball field\, the first parking lot on the right as you enter the park. Bring your binoculars\, but if you don’t have any\, there is a pair for loan. In March\, the group saw 31 species! \nWhite-crowned sparrow photo by Richard Vetter \n 
URL:https://siskiyouaudubon.org/event-calendar/3rd-tuesday-bird-walk-at-reinhart-volunteer-park-3/
LOCATION:Reinhart Park\, 1690 SW Webster Rd\, Grants Pass\, 97526\, United States
ATTACH;FMTTYPE=image/webp:https://siskiyouaudubon.org/wp-content/uploads/2025/02/IMG_0560.webp
END:VEVENT
END:VCALENDAR