BEGIN:VCALENDAR
VERSION:2.0
PRODID:-//Siskiyou Audubon Society - ECPv6.15.20//NONSGML v1.0//EN
CALSCALE:GREGORIAN
METHOD:PUBLISH
X-WR-CALNAME:Siskiyou Audubon Society
X-ORIGINAL-URL:https://siskiyouaudubon.org
X-WR-CALDESC:Events for Siskiyou Audubon Society
REFRESH-INTERVAL;VALUE=DURATION:PT1H
X-Robots-Tag:noindex
X-PUBLISHED-TTL:PT1H
BEGIN:VTIMEZONE
TZID:America/Los_Angeles
BEGIN:DAYLIGHT
TZOFFSETFROM:-0800
TZOFFSETTO:-0700
TZNAME:PDT
DTSTART:20240310T100000
END:DAYLIGHT
BEGIN:STANDARD
TZOFFSETFROM:-0700
TZOFFSETTO:-0800
TZNAME:PST
DTSTART:20241103T090000
END:STANDARD
BEGIN:DAYLIGHT
TZOFFSETFROM:-0800
TZOFFSETTO:-0700
TZNAME:PDT
DTSTART:20250309T100000
END:DAYLIGHT
BEGIN:STANDARD
TZOFFSETFROM:-0700
TZOFFSETTO:-0800
TZNAME:PST
DTSTART:20251102T090000
END:STANDARD
BEGIN:DAYLIGHT
TZOFFSETFROM:-0800
TZOFFSETTO:-0700
TZNAME:PDT
DTSTART:20260308T100000
END:DAYLIGHT
BEGIN:STANDARD
TZOFFSETFROM:-0700
TZOFFSETTO:-0800
TZNAME:PST
DTSTART:20261101T090000
END:STANDARD
END:VTIMEZONE
BEGIN:VEVENT
DTSTART;TZID=America/Los_Angeles:20251214T000000
DTEND;TZID=America/Los_Angeles:20251214T235959
DTSTAMP:20260423T162233
CREATED:20251104T224949Z
LAST-MODIFIED:20251203T002247Z
UID:275-1765670400-1765756799@siskiyouaudubon.org
SUMMARY:126th Audubon Christmas Bird Count
DESCRIPTION:The Audubon Christmas Bird Count is the nation’s longest-running community science bird project! Since 1900\, it has taken place every year during the period from December 14 to January 5. This will be Siskiyou Audubon Society’s 43rd count! \nThis year SAS’s count will take place on December 14. Margaret James has volunteered once again to be the Compiler. \nCheck the national Audubon website for more information about the history and logistics of the count! \nJosephine County’s bird Count Circle has 11 sections. If you want to count\, you can count all day or any part of the day. If your home falls within the Circle\, you can count at home. But\, be sure to let Margaret know so she can advise the leader of the section in which you are located. Sign up directly with Margaret if you want to count or contact SAS by emailing us at: \nsisqaudubon@gmail.com \n \nSAS Birders  Image – 2009
URL:https://siskiyouaudubon.org/event-calendar/126th-audubon-christmas-bird-count/
ATTACH;FMTTYPE=image/jpeg:https://siskiyouaudubon.org/wp-content/uploads/2025/11/GP-CBC-Circle-Map_2015_crop_rsz25.jpeg
END:VEVENT
END:VCALENDAR